BEGIN:VCALENDAR
VERSION:2.0
PRODID:-//wp-events-plugin.com//7.2.3.1//EN
TZID:America/New_York
X-WR-TIMEZONE:America/New_York
BEGIN:VEVENT
UID:10141@goriverwalk.com
DTSTART;TZID=America/New_York:20200924T080000
DTEND;TZID=America/New_York:20200924T093000
DTSTAMP:20200915T173740Z
URL:https://www.goriverwalk.com/greater-fort-lauderdale-events/pathways-to
 -essential-careers
SUMMARY:Pathways to Essential Careers
DESCRIPTION:High paying careers that do not require a college degree
ATTACH;FMTTYPE=image/jpeg:https://www.goriverwalk.com/wp-content/uploads/2
 020/09/GFLCC-pathways-scaled.jpg
CATEGORIES:Business,Education
END:VEVENT
BEGIN:VTIMEZONE
TZID:America/New_York
X-LIC-LOCATION:America/New_York
BEGIN:DAYLIGHT
DTSTART:20200308T030000
TZOFFSETFROM:-0500
TZOFFSETTO:-0400
TZNAME:EDT
END:DAYLIGHT
END:VTIMEZONE
END:VCALENDAR