BEGIN:VCALENDAR
VERSION:2.0
PRODID:-//wp-events-plugin.com//7.2.3.1//EN
TZID:America/New_York
X-WR-TIMEZONE:America/New_York
BEGIN:VEVENT
UID:1382@goriverwalk.com
DTSTART;TZID=America/New_York:20160131T190000
DTEND;TZID=America/New_York:20160131T210000
DTSTAMP:20151209T163446Z
URL:https://www.goriverwalk.com/greater-fort-lauderdale-events/pat-mcgee
SUMMARY:Pat McGee
DESCRIPTION:Recorded in Los Angeles in 2014\, the self-titled album\, Pat M
 cGee was influenced by the classic albums of the 1970s that were spun in h
 is childhood home.
ATTACH;FMTTYPE=image/jpeg:https://www.goriverwalk.com/wp-content/uploads/2
 015/12/tn_PatMcGee_BS00616.jpg
CATEGORIES:Music
LOCATION:Broward Center for the Performing Arts\, 201 SW 5th Avenue\, Fort 
 Lauderdale\, Florida\, 33312\, United States
GEO:26.119873;-80.149269
X-APPLE-STRUCTURED-LOCATION;VALUE=URI;X-ADDRESS=201 SW 5th Avenue\, Fort La
 uderdale\, Florida\, 33312\, United States;X-APPLE-RADIUS=100;X-TITLE=Brow
 ard Center for the Performing Arts:geo:26.119873,-80.149269
END:VEVENT
BEGIN:VTIMEZONE
TZID:America/New_York
X-LIC-LOCATION:America/New_York
BEGIN:STANDARD
DTSTART:20151101T010000
TZOFFSETFROM:-0400
TZOFFSETTO:-0500
TZNAME:EST
END:STANDARD
END:VTIMEZONE
END:VCALENDAR