BEGIN:VCALENDAR
VERSION:2.0
PRODID:-//wp-events-plugin.com//7.2.3.1//EN
TZID:America/New_York
X-WR-TIMEZONE:America/New_York
BEGIN:VEVENT
UID:2482@goriverwalk.com
DTSTART;TZID=America/New_York:20160824T183000
DTEND;TZID=America/New_York:20160824T210000
DTSTAMP:20160822T152800Z
URL:https://www.goriverwalk.com/greater-fort-lauderdale-events/painting-pa
 rty-with-april-kirk
SUMMARY:Painting Party with April Kirk
DESCRIPTION:Paint with April Kirk at the Woman's Club.
ATTACH;FMTTYPE=image/jpeg:https://www.goriverwalk.com/wp-content/uploads/2
 016/08/2016-FLWC-LOGO-250x150-1.jpg
CATEGORIES:Art
LOCATION:Fort Lauderdale Woman's Club\, 20 South Andrews Avenue\, Fort Laud
 erdale \, FL\, 33301\, Southeast Florida\, United States
GEO:26.121759;-80.143127
X-APPLE-STRUCTURED-LOCATION;VALUE=URI;X-ADDRESS=20 South Andrews Avenue\, F
 ort Lauderdale \, FL\, 33301\, Southeast Florida\, United States;X-APPLE-R
 ADIUS=100;X-TITLE=Fort Lauderdale Woman's Club:geo:26.121759,-80.143127
END:VEVENT
BEGIN:VTIMEZONE
TZID:America/New_York
X-LIC-LOCATION:America/New_York
BEGIN:DAYLIGHT
DTSTART:20160313T030000
TZOFFSETFROM:-0500
TZOFFSETTO:-0400
TZNAME:EDT
END:DAYLIGHT
END:VTIMEZONE
END:VCALENDAR