BEGIN:VCALENDAR
VERSION:2.0
PRODID:-//wp-events-plugin.com//7.2.3.1//EN
TZID:America/New_York
X-WR-TIMEZONE:America/New_York
BEGIN:VEVENT
UID:22885@goriverwalk.com
DTSTART;TZID=America/New_York;VALUE=DATE:20260423
DTEND;TZID=America/New_York;VALUE=DATE:20260504
DTSTAMP:20260421T140150Z
URL:https://www.goriverwalk.com/greater-fort-lauderdale-events/outshine-lg
 btq-film-festival-spring-edition-2026
SUMMARY:OUTshine LGBTQ+ Film Festival Spring Edition 2026
DESCRIPTION:The OUTshine LGBTQ+ Film Festival spring edition returns April 
 23 – May 3\, 2026! This year’s festival is proud to feature more than 
 20 international\, North American and East Coast premieres from 20 countri
 es across Miami-Dade and Broward counties! Adding to the excitement of the
  festival will be a special recognition ceremony for Academy Award-winning
  screenwriter Dustin Lance Black\, whose Rock Out (USA\, 2025) film will b
 e screening on Monday\, April 27\, at Paradigm Cinemas: Gateway Fort Laude
 rdale (1820 E Sunrise Blvd). Other special events\, filmmaker panels and a
 fterparties will add diversity to South Florida’s cinema scene.\n\nInter
 nationally acclaimed as one of the largest LGBTQ+ cultural festivals in th
 e world\, OUTshine will debut its first Opening Night Under the Stars part
 y featuring The Dinner (La Cena) (Spain\, 2025)\, a delicious blend of ten
 sion\, history\, and irreverent humor\, on Thursday\, April 23\, at 7:30 p
 .m.\, at Miami Beach Botanical Gardens (2000 Convention Ctr Dr\, Miami Bea
 ch). This year’s previously announced Centerpiece film\, Maspalomas (Spa
 in\, 2025)\, an intimate story that delves into the subject of homosexuali
 ty in elder age through the journey of a 76-year-old man confronting fears
  and dilemmas that cross generations\, screens at the Koubek Center Theate
 r (2705 SW 3rd St\, Miami) at 7:30 p.m. on April 30. Closing night on Sund
 ay\, May 3\, at 6 p.m.\, at Savor Cinema (503 SE 6th St\, Fort Lauderdale)
  will feature the international premiere of We’ll Find Happiness (Canada
 \, 2025)\, an award-winning drama about how far one will go for love\, fol
 lowed by another first - a Community Block Party featuring food vendors\, 
 filmmakers\, live performers\, entertainment and more.\n\nFestival highlig
 hts this season include the international premieres of An Island Away From
  You (A Una Isla Deti) (Spain\, 2025)\; The Children of Silverstreet Take 
 a Stand (Børnene Fra Sølvgade Tager Kampen Op) (Denmark\, 2025)\; and Un
 icorns (Italy/Spain\, 2025). This edition’s North American premieres inc
 lude the star-studded documentary Armani And The Birth of Italian Fashion 
 (Italy\, 2026) that traces the rise of Italian fashion through the story o
 f the families that have been ruling it for decades – from Armani\, Vers
 ace\, Gucci and Valentino to Missoni\, Zegna\, Ferragamo\, Dolce &amp\; Ga
 bbana and Prada and featuring legendary insiders\, rivalries\, personal st
 ories and the enduring love affair between Hollywood and Italian designers
 \; Baracoa (Cuba/Italy\, 2025)\; Free At Heart (Germany\, 2025)\; In A Whi
 sper (À voix basse) (France/Tunisia\, 2025)\; Jone\, Sometimes (Jone\, ba
 tzuetan) (Spain\, 2025)\, OUTshine’s Ladies Latin Spotlight Film\; La Ca
 rn (Spain\, 2025)\; Lone Star Bull (USA\, 2025) starring Luke Macfarlane\,
  Sebastian Roché\, and D.J. “Shangela” Pierce\; Patty Is Such A Girly
  Name (Greece\, 2025)\; and Madfabulous (UK\, 2026)\, a riotous\, uncompro
 mising celebration of otherness inspired by the unlikely British aristocra
 t who bankrupted his estate\, lived fast and died young starring Rupert Ev
 erett\, Greta Jones\, and Ruby Stokes.\n\nAdding to the excitement will be
  a special recognition ceremony for Dustin Lance Black\, director of Rock 
 Out (USA\, 2025)\, an excavation of the queer roots of rock\, punk and met
 al featuring Roger Daltrey\, Dolly Parton\, John Reid\, Danny Fields and m
 ore\, at the Monday\, April 27 Paradigm Cinemas: Gateway Fort Lauderdale C
 ocktails &amp\; Cinema&#x2122\; screening. An American screenwriter\, dire
 ctor\, producer\, and LGBTQ+ rights activist\, Black won the Academy Award
  for Best Original Screenplay in 2009 for Milk\, a biographical drama film
  based on the life of gay rights activist and politician Harvey Milk\, who
  was the first openly gay man to be elected to public office in California
 \, as a member of the San Francisco Board of Supervisors. He also wrote th
 e screenplay for the film J. Edgar and the 2022 crime miniseries Under the
  Banner of Heaven. Additionally\, he worked on Big Love\, Rustin and Mama
 ’s Boy. Black served as a founding board member of the American Foundati
 on for Equal Rights (AFER). He played a pivotal role in the legal fight to
  overturn California’s Proposition 8\, notably writing the play "8" base
 d on the trial transcripts to raise awareness and funds.\n\nThe festival c
 ontinues with select films available for OUTshine At-Home viewing from May
  4 - 10.\n\nThis year’s OUTshine LGBTQ+ Film Festival spring edition is 
 presented by CAN Community Health and The Warten Foundation. Premiere spon
 sors are Gilead and Comcast\; Presenting Media are HotSpots! Media and It
 ’s Happening Out\; Grand sponsors are Google\, Wilton River Suites\, Sil
 verspot Cinemas\, Paradigm Cinemas: Gateway Fort Lauderdale\, Major Preven
 tion 305\, Fast Printz\, Tito’s and Commissioner Damian Pardo\; Supporti
 ng sponsors are Latino Salud J. Mark’s\, Miami Beach Botanical Gardens a
 nd Media partners include Culture Owl\, The Bulletin\, I Love Gay Movies\,
  Miami Herald\, El Nuevo Herald\, MOCHEE\, TampaBayGay.com\, OUTFRONT MEDI
 A\, OUT SFL\, OutClique\, queerguru.com\, Wire magazine\, Skirt South Flor
 ida and GPR| Goodman Public Relations.\n\nTicket subscription packages and
  individual tickets starting at $17 are on sale now. OUTshine passholders 
 and Producer Circle members receive priority advance ticket purchase oppor
 tunities.\n\nFor a full listing of films\, parties\, special events and mo
 re and to purchase tickets\, visit outshinefilm.com.
ATTACH;FMTTYPE=image/jpeg:https://www.goriverwalk.com/wp-content/uploads/2
 026/04/2026-Spring-Festival-Banners_1500x1500-SQ1.jpg
CATEGORIES:Art,Cultural,Film,Movie
LOCATION:OUTshine Film Festival\, PO Box 530280\, Miami\, Florida\, 33153\,
  United States
X-APPLE-STRUCTURED-LOCATION;VALUE=URI;X-ADDRESS=PO Box 530280\, Miami\, Flo
 rida\, 33153\, United States;X-APPLE-RADIUS=100;X-TITLE=OUTshine Film Fest
 ival:geo:0,0
END:VEVENT
BEGIN:VTIMEZONE
TZID:America/New_York
X-LIC-LOCATION:America/New_York
BEGIN:DAYLIGHT
DTSTART:20260308T030000
TZOFFSETFROM:-0500
TZOFFSETTO:-0400
TZNAME:EDT
END:DAYLIGHT
END:VTIMEZONE
END:VCALENDAR