BEGIN:VCALENDAR
VERSION:2.0
PRODID:-//wp-events-plugin.com//7.2.3.1//EN
TZID:America/New_York
X-WR-TIMEZONE:America/New_York
BEGIN:VEVENT
UID:4689@goriverwalk.com
DTSTART;TZID=America/New_York:20180615T190000
DTEND;TZID=America/New_York:20180615T220000
DTSTAMP:20180530T205215Z
URL:https://www.goriverwalk.com/greater-fort-lauderdale-events/our-night-o
 ut
SUMMARY:Our Night OUT
DESCRIPTION:Kick off to the 2018 Stonewall Parade &amp\; Festival
ATTACH;FMTTYPE=image/jpeg:https://www.goriverwalk.com/wp-content/uploads/2
 018/04/our-night-out-e1525118546801.jpg
CATEGORIES:Cocktail,Community,Dance,Food,Fundraiser,Music
LOCATION:The Venue\, 2345 Wilton Dr\, Fort Lauderdale\, FL\, 33305\, United
  States
GEO:26.158072;-80.13560790000002
X-APPLE-STRUCTURED-LOCATION;VALUE=URI;X-ADDRESS=2345 Wilton Dr\, Fort Laude
 rdale\, FL\, 33305\, United States;X-APPLE-RADIUS=100;X-TITLE=The Venue:ge
 o:26.158072,-80.13560790000002
END:VEVENT
BEGIN:VTIMEZONE
TZID:America/New_York
X-LIC-LOCATION:America/New_York
BEGIN:DAYLIGHT
DTSTART:20180311T030000
TZOFFSETFROM:-0500
TZOFFSETTO:-0400
TZNAME:EDT
END:DAYLIGHT
END:VTIMEZONE
END:VCALENDAR