BEGIN:VCALENDAR
VERSION:2.0
PRODID:-//wp-events-plugin.com//7.2.3.1//EN
TZID:America/New_York
X-WR-TIMEZONE:America/New_York
BEGIN:VEVENT
UID:4540@goriverwalk.com
DTSTART;TZID=America/New_York:20180410T190000
DTEND;TZID=America/New_York:20180410T210000
DTSTAMP:20180404T210427Z
URL:https://www.goriverwalk.com/greater-fort-lauderdale-events/opera-conce
 rt-series
SUMMARY:Opera Concert Series
DESCRIPTION:At the Intersection of Opera and Broadway
ATTACH;FMTTYPE=image/jpeg:https://www.goriverwalk.com/wp-content/uploads/2
 018/04/studio-opera.jpg
CATEGORIES:Cultural,Music
LOCATION:Bienes Center for the Arts at St. Thomas Aquinas\, 2801 SW 12th St
 reet\, Fort Lauderdale\, Florida\, 33312\, United States
GEO:26.108381;-80.18118199999998
X-APPLE-STRUCTURED-LOCATION;VALUE=URI;X-ADDRESS=2801 SW 12th Street\, Fort 
 Lauderdale\, Florida\, 33312\, United States;X-APPLE-RADIUS=100;X-TITLE=Bi
 enes Center for the Arts at St. Thomas Aquinas:geo:26.108381,-80.181181999
 99998
END:VEVENT
BEGIN:VTIMEZONE
TZID:America/New_York
X-LIC-LOCATION:America/New_York
BEGIN:DAYLIGHT
DTSTART:20180311T030000
TZOFFSETFROM:-0500
TZOFFSETTO:-0400
TZNAME:EDT
END:DAYLIGHT
END:VTIMEZONE
END:VCALENDAR