BEGIN:VCALENDAR
VERSION:2.0
PRODID:-//wp-events-plugin.com//7.2.3.1//EN
TZID:America/New_York
X-WR-TIMEZONE:America/New_York
BEGIN:VEVENT
UID:2627@goriverwalk.com
DTSTART;TZID=America/New_York:20161015T101500
DTEND;TZID=America/New_York:20161015T150000
DTSTAMP:20161011T151315Z
URL:https://www.goriverwalk.com/greater-fort-lauderdale-events/open-street
 s-fort-lauderdale
SUMMARY:Open Streets Fort Lauderdale
DESCRIPTION:Walk\, roll\, or stroll along Andrews Avenue at Open Streets Fo
 rt Lauderdale.
ATTACH;FMTTYPE=image/jpeg:https://www.goriverwalk.com/wp-content/uploads/2
 016/09/3394-Open-Streets-Event-Oct-2016_Web-thumbnail.jpg
CATEGORIES:Community
LOCATION:Andrews Avenue from NE 1st St to Flagler Dr\, Andrews Avenue\, For
 t Lauderdale\, FL\, 33301\, Broward County\, United States
GEO:26.1242719;-80.12890099999998
X-APPLE-STRUCTURED-LOCATION;VALUE=URI;X-ADDRESS=Andrews Avenue\, Fort Laude
 rdale\, FL\, 33301\, Broward County\, United States;X-APPLE-RADIUS=100;X-T
 ITLE=Andrews Avenue from NE 1st St to Flagler Dr:geo:26.1242719,-80.128900
 99999998
END:VEVENT
BEGIN:VTIMEZONE
TZID:America/New_York
X-LIC-LOCATION:America/New_York
BEGIN:DAYLIGHT
DTSTART:20160313T030000
TZOFFSETFROM:-0500
TZOFFSETTO:-0400
TZNAME:EDT
END:DAYLIGHT
END:VTIMEZONE
END:VCALENDAR