BEGIN:VCALENDAR
VERSION:2.0
PRODID:-//wp-events-plugin.com//7.2.3.1//EN
TZID:America/New_York
X-WR-TIMEZONE:America/New_York
BEGIN:VEVENT
UID:2601@goriverwalk.com
DTSTART;TZID=America/New_York:20160927T183000
DTEND;TZID=America/New_York:20161227T223000
DTSTAMP:20161108T153951Z
URL:https://www.goriverwalk.com/greater-fort-lauderdale-events/open-mic-tu
 esdays-feat-the-takers-leavers
SUMMARY:Open Mic Tuesdays feat. The Takers & Leavers
DESCRIPTION:ArtServe empowers local artists and cultural entities to achiev
 e their vision\, improve the cultural fabric of our community and discover
  innovations in the arts.
ATTACH;FMTTYPE=image/jpeg:https://www.goriverwalk.com/wp-content/uploads/2
 015/12/Default-calendar.jpg
CATEGORIES:Art
LOCATION:ArtServe\, 1350 E Sunrise Boulevard\, Fort Lauderdale\, Florida\, 
 33304\, United States
GEO:26.137135;-80.130157
X-APPLE-STRUCTURED-LOCATION;VALUE=URI;X-ADDRESS=1350 E Sunrise Boulevard\, 
 Fort Lauderdale\, Florida\, 33304\, United States;X-APPLE-RADIUS=100;X-TIT
 LE=ArtServe:geo:26.137135,-80.130157
END:VEVENT
BEGIN:VTIMEZONE
TZID:America/New_York
X-LIC-LOCATION:America/New_York
BEGIN:DAYLIGHT
DTSTART:20160313T030000
TZOFFSETFROM:-0500
TZOFFSETTO:-0400
TZNAME:EDT
END:DAYLIGHT
BEGIN:STANDARD
DTSTART:20161106T010000
TZOFFSETFROM:-0400
TZOFFSETTO:-0500
TZNAME:EST
END:STANDARD
END:VTIMEZONE
END:VCALENDAR