BEGIN:VCALENDAR
VERSION:2.0
PRODID:-//wp-events-plugin.com//7.2.3.1//EN
TZID:America/New_York
X-WR-TIMEZONE:America/New_York
BEGIN:VEVENT
UID:7606@goriverwalk.com
DTSTART;TZID=America/New_York:20190626T180000
DTEND;TZID=America/New_York:20190626T220000
DTSTAMP:20190614T130437Z
URL:https://www.goriverwalk.com/greater-fort-lauderdale-events/one-door-ea
 st-presents-pride-an-art-event
SUMMARY:One Door East presents PRIDE - an art event
DESCRIPTION:Featuring live painting
ATTACH;FMTTYPE=image/jpeg:https://www.goriverwalk.com/wp-content/uploads/2
 017/11/Default-calendar.jpg
CATEGORIES:Art,Cocktail,Community,Food,Music
LOCATION:One Door East\, 620 S Federal Highway\, Fort Lauderdale\, FL \, 33
 301\, United States
GEO:26.1138963;-80.13679589999998
X-APPLE-STRUCTURED-LOCATION;VALUE=URI;X-ADDRESS=620 S Federal Highway\, For
 t Lauderdale\, FL \, 33301\, United States;X-APPLE-RADIUS=100;X-TITLE=One 
 Door East:geo:26.1138963,-80.13679589999998
END:VEVENT
BEGIN:VTIMEZONE
TZID:America/New_York
X-LIC-LOCATION:America/New_York
BEGIN:DAYLIGHT
DTSTART:20190310T030000
TZOFFSETFROM:-0500
TZOFFSETTO:-0400
TZNAME:EDT
END:DAYLIGHT
END:VTIMEZONE
END:VCALENDAR