BEGIN:VCALENDAR
VERSION:2.0
PRODID:-//wp-events-plugin.com//7.2.3.1//EN
TZID:America/New_York
X-WR-TIMEZONE:America/New_York
BEGIN:VEVENT
UID:20679@goriverwalk.com
DTSTART;TZID=America/New_York:20250321T180000
DTEND;TZID=America/New_York:20250919T210000
DTSTAMP:20250401T142059Z
URL:https://www.goriverwalk.com/greater-fort-lauderdale-events/old-town-ba
 ckyard-jam-concert-series
SUMMARY:Old Town Backyard Jam Concert Series
DESCRIPTION:Come for the tunes\, stay for the fun!
ATTACH;FMTTYPE=image/jpeg:https://www.goriverwalk.com/wp-content/uploads/2
 025/03/Old-Town-Backyard-Jam-Concert-Series.jpg
CATEGORIES:Food,Free,Music
LOCATION:Old Town Pompano- Behind Ali Contemporary Arts &amp\; South Bar &a
 mp\; Kitchen\, 41 NE 1st Street\, Pompano Beach\, FL\, 33060\, United Stat
 es
X-APPLE-STRUCTURED-LOCATION;VALUE=URI;X-ADDRESS=41 NE 1st Street\, Pompano 
 Beach\, FL\, 33060\, United States;X-APPLE-RADIUS=100;X-TITLE=Old Town Pom
 pano- Behind Ali Contemporary Arts & South Bar & Kitchen:geo:0,0
END:VEVENT
BEGIN:VTIMEZONE
TZID:America/New_York
X-LIC-LOCATION:America/New_York
BEGIN:DAYLIGHT
DTSTART:20250309T030000
TZOFFSETFROM:-0500
TZOFFSETTO:-0400
TZNAME:EDT
END:DAYLIGHT
END:VTIMEZONE
END:VCALENDAR