BEGIN:VCALENDAR
VERSION:2.0
PRODID:-//wp-events-plugin.com//7.2.3.1//EN
TZID:America/New_York
X-WR-TIMEZONE:America/New_York
BEGIN:VEVENT
UID:2561@goriverwalk.com
DTSTART;TZID=America/New_York:20160924T120000
DTEND;TZID=America/New_York:20160925T190000
DTSTAMP:20160913T183259Z
URL:https://www.goriverwalk.com/greater-fort-lauderdale-events/oktoberfest
 -2016
SUMMARY:Oktoberfest 2016
DESCRIPTION:Society 8 Hospitality Group is pleased to bring an authentic Ok
 toberfest celebration to Fort Lauderdale’s Hugh Taylor Birch State Park.
  During the festivities\, guests are encouraged to don their lederhosen as
  they are transported to a German countryside at the park. The park’s op
 en space will be transformed into villages with biergartens\, festive déc
 or and tented dining areas. A German-American menu will be offered featuri
 ng Bavarian Pretzels\, Bratwurst\, Apple Strudel and Spit-fired Chicken\, 
 to name a few! Steins will be flowing with beer from local brewers includi
 ng Khoffner Brewery and others.\n\n&nbsp\;\n\nAt this high-energy festival
 \, Polka dancers will perform to live Polka bands playing traditional Germ
 an music in addition to live bands performing today’s hits. The event wi
 ll also have fun\, interactive games such as Barrel Rolling and Beer Races
 .\n\nFor more information\, click on the event link.
ATTACH;FMTTYPE=image/jpeg:https://www.goriverwalk.com/wp-content/uploads/2
 016/09/small-Beer_Society-8-Oktoberfest.jpg
CATEGORIES:Festival,Food
LOCATION:Hugh Taylor Birch State Park\, 3109 E Sunrise Blvd. \, Fort Lauder
 dale\, FL\, 33304\, United States
GEO:26.138685;-80.104576
X-APPLE-STRUCTURED-LOCATION;VALUE=URI;X-ADDRESS=3109 E Sunrise Blvd. \, For
 t Lauderdale\, FL\, 33304\, United States;X-APPLE-RADIUS=100;X-TITLE=Hugh 
 Taylor Birch State Park:geo:26.138685,-80.104576
END:VEVENT
BEGIN:VTIMEZONE
TZID:America/New_York
X-LIC-LOCATION:America/New_York
BEGIN:DAYLIGHT
DTSTART:20160313T030000
TZOFFSETFROM:-0500
TZOFFSETTO:-0400
TZNAME:EDT
END:DAYLIGHT
END:VTIMEZONE
END:VCALENDAR