BEGIN:VCALENDAR
VERSION:2.0
PRODID:-//wp-events-plugin.com//7.2.3.1//EN
TZID:America/New_York
X-WR-TIMEZONE:America/New_York
BEGIN:VEVENT
UID:8311@goriverwalk.com
DTSTART;TZID=America/New_York:20191003T090000
DTEND;TZID=America/New_York:20191003T100000
DTSTAMP:20190926T192657Z
URL:https://www.goriverwalk.com/greater-fort-lauderdale-events/oakland-par
 k-building-for-our-2nd-century
SUMMARY:Oakland Park: Building For Our 2nd Century
DESCRIPTION:New Comprehensive Facilities Plan
ATTACH;FMTTYPE=image/jpeg:https://www.goriverwalk.com/wp-content/uploads/2
 019/09/C1904-07_V01-U1.jpg
CATEGORIES:Community
LOCATION:Oakland Park City Public Works\, 5100 NE 12 Terrace\, Oakland Park
 \, FL 33334\, Oakland Park\, Florida\, 33334\, United States
GEO:26.191729;-80.13031590000003
X-APPLE-STRUCTURED-LOCATION;VALUE=URI;X-ADDRESS=5100 NE 12 Terrace\, Oaklan
 d Park\, FL 33334\, Oakland Park\, Florida\, 33334\, United States;X-APPLE
 -RADIUS=100;X-TITLE=Oakland Park City Public Works:geo:26.191729,-80.13031
 590000003
END:VEVENT
BEGIN:VTIMEZONE
TZID:America/New_York
X-LIC-LOCATION:America/New_York
BEGIN:DAYLIGHT
DTSTART:20190310T030000
TZOFFSETFROM:-0500
TZOFFSETTO:-0400
TZNAME:EDT
END:DAYLIGHT
END:VTIMEZONE
END:VCALENDAR