BEGIN:VCALENDAR
VERSION:2.0
PRODID:-//wp-events-plugin.com//7.2.3.1//EN
TZID:America/New_York
X-WR-TIMEZONE:America/New_York
BEGIN:VEVENT
UID:18171@goriverwalk.com
DTSTART;TZID=America/New_York:20231205T193000
DTEND;TZID=America/New_York:20231205T210000
DTSTAMP:20231120T194006Z
URL:https://www.goriverwalk.com/greater-fort-lauderdale-events/nova-singer
 s-holiday-concert-5
SUMMARY:Nova Singers Holiday Concert
DESCRIPTION:A concert series called “The Most Wonderful Time of the Year!
 ”
ATTACH;FMTTYPE=image/jpeg:https://www.goriverwalk.com/wp-content/uploads/2
 023/11/4CLW5723-Lr-sopranos-c-smaller-700.jpg
CATEGORIES:Music
LOCATION:St. Sebastian Catholic Church\, 2000 SE 25th Avenue\, Fort Lauderd
 ale\, FL\, 33316\, United States
X-APPLE-STRUCTURED-LOCATION;VALUE=URI;X-ADDRESS=2000 SE 25th Avenue\, Fort 
 Lauderdale\, FL\, 33316\, United States;X-APPLE-RADIUS=100;X-TITLE=St. Seb
 astian Catholic Church:geo:0,0
END:VEVENT
BEGIN:VTIMEZONE
TZID:America/New_York
X-LIC-LOCATION:America/New_York
BEGIN:STANDARD
DTSTART:20231105T010000
TZOFFSETFROM:-0400
TZOFFSETTO:-0500
TZNAME:EST
END:STANDARD
END:VTIMEZONE
END:VCALENDAR