BEGIN:VCALENDAR
VERSION:2.0
PRODID:-//wp-events-plugin.com//7.2.3.1//EN
TZID:America/New_York
X-WR-TIMEZONE:America/New_York
BEGIN:VEVENT
UID:22930@goriverwalk.com
DTSTART;TZID=America/New_York:20260515T200000
DTEND;TZID=America/New_York:20260515T213000
DTSTAMP:20260421T145927Z
URL:https://www.goriverwalk.com/greater-fort-lauderdale-events/nova-singer
 s-concert-golden-oldies
SUMMARY:Nova Singers Concert: Golden Oldies
DESCRIPTION:The Nova Singers will perform favorite songs of the group’s l
 ast 50 years in a concert series called Golden Oldies.\n\nThe concerts wil
 l include popular American standards\, choral favorites from the group’s
  early years\, spirituals and even a little Broadway.\n\nNova Singers\, un
 der the direction of Chuck Stanley\, will be accompanied by pianist Anthon
 y Ciotti and other instrumentalists.\n\nNova Singers began 50 years ago in
  the living room of founding director Peggy Joyce Barber\, a high-school c
 horal director who wanted to create a place for her students to sing after
  they graduated. Barber\, who died in 2024\, directed the chorus until 201
 0. The 130 singers range in age from 16 to 80-plus\, and two of the origin
 al singers\, including director Chuck Stanley\, are still with the group.\
 n\nThe concert will be performed three times\, in three different venues:\
 n\n 	May 15\, 8 p.m. Blessed Sacrament Catholic Church\, 1701 E Oakland P
 ark Blvd\, Oakland Park\, FL 33334.\n 	May 17\, 4 p.m. Plantation United M
 ethodist Church\, 1001 NW 70th Ave\, Plantation\, FL 33313.\n 	May 19\, 7:
 30 p.m.  Paul Lutheran Church\, 580 Indian Trace\, Weston\, FL 33326.\n\n
 Tickets are $20 in advance and $25 at the door. Children 12 and younger\, 
 plus students any age with school ID\, are admitted free. Advance tickets
  are available at https://tinyurl.com/NovaMay2026.\n\nThe Nova Singers is
  Nova Southeastern University’s community chorus\, whose members range f
 rom Nova undergraduate students to senior members of the local community.
ATTACH;FMTTYPE=image/jpeg:https://www.goriverwalk.com/wp-content/uploads/2
 026/04/105A9418-Lr-c-smallest.jpg
CATEGORIES:Community,Music
LOCATION:Blessed Sacrament Catholic Church\, 1701 E Oakland Park Blvd\, Oak
 land Park\, FL\, 33334\, FL\, United States
X-APPLE-STRUCTURED-LOCATION;VALUE=URI;X-ADDRESS=1701 E Oakland Park Blvd\, 
 Oakland Park\, FL\, 33334\, FL\, United States;X-APPLE-RADIUS=100;X-TITLE=
 Blessed Sacrament Catholic Church:geo:0,0
END:VEVENT
BEGIN:VTIMEZONE
TZID:America/New_York
X-LIC-LOCATION:America/New_York
BEGIN:DAYLIGHT
DTSTART:20260308T030000
TZOFFSETFROM:-0500
TZOFFSETTO:-0400
TZNAME:EDT
END:DAYLIGHT
END:VTIMEZONE
END:VCALENDAR