BEGIN:VCALENDAR
VERSION:2.0
PRODID:-//wp-events-plugin.com//7.2.3.1//EN
TZID:America/New_York
X-WR-TIMEZONE:America/New_York
BEGIN:VEVENT
UID:10304@goriverwalk.com
DTSTART;TZID=America/New_York:20201231T110000
DTEND;TZID=America/New_York:20201231T130000
DTSTAMP:20201022T183703Z
URL:https://www.goriverwalk.com/greater-fort-lauderdale-events/noon-years-
 eve-celebrations-at-mods
SUMMARY:Noon Year’s Eve Celebrations at MODS
DESCRIPTION:A family-friendly social distanced event
ATTACH;FMTTYPE=image/jpeg:https://www.goriverwalk.com/wp-content/uploads/2
 020/10/MODS-Noon-Years-Eve.jpg
CATEGORIES:Community,Holiday
LOCATION:Museum of Discovery and Science\, 401 SW 2nd Street\, Fort Lauderd
 ale\, FL\, 33312\, United States
GEO:26.120718;-80.14800500000001
X-APPLE-STRUCTURED-LOCATION;VALUE=URI;X-ADDRESS=401 SW 2nd Street\, Fort La
 uderdale\, FL\, 33312\, United States;X-APPLE-RADIUS=100;X-TITLE=Museum of
  Discovery and Science:geo:26.120718,-80.14800500000001
END:VEVENT
BEGIN:VTIMEZONE
TZID:America/New_York
X-LIC-LOCATION:America/New_York
BEGIN:STANDARD
DTSTART:20201101T010000
TZOFFSETFROM:-0400
TZOFFSETTO:-0500
TZNAME:EST
END:STANDARD
END:VTIMEZONE
END:VCALENDAR