BEGIN:VCALENDAR
VERSION:2.0
PRODID:-//wp-events-plugin.com//7.2.3.1//EN
TZID:America/New_York
X-WR-TIMEZONE:America/New_York
BEGIN:VEVENT
UID:22197@goriverwalk.com
DTSTART;TZID=America/New_York:20260204T120000
DTEND;TZID=America/New_York:20260325T133000
DTSTAMP:20260316T143701Z
URL:https://www.goriverwalk.com/greater-fort-lauderdale-events/noon-tunes-
 5
SUMMARY:Noon Tunes
DESCRIPTION:Enjoy the fresh air while listening to live music\n
ATTACH;FMTTYPE=image/jpeg:https://www.goriverwalk.com/wp-content/uploads/2
 026/01/noon-tunes.jpg
CATEGORIES:Community,Free,Music
LOCATION:Laura Ward Riverwalk Plaza\, 420 SE 6th Avenue\, Fort Lauderdale\,
  FL\, 33301\, United States
X-APPLE-STRUCTURED-LOCATION;VALUE=URI;X-ADDRESS=420 SE 6th Avenue\, Fort La
 uderdale\, FL\, 33301\, United States;X-APPLE-RADIUS=100;X-TITLE=Laura War
 d Riverwalk Plaza:geo:0,0
END:VEVENT
BEGIN:VTIMEZONE
TZID:America/New_York
X-LIC-LOCATION:America/New_York
BEGIN:STANDARD
DTSTART:20251102T010000
TZOFFSETFROM:-0400
TZOFFSETTO:-0500
TZNAME:EST
END:STANDARD
BEGIN:DAYLIGHT
DTSTART:20260308T030000
TZOFFSETFROM:-0500
TZOFFSETTO:-0400
TZNAME:EDT
END:DAYLIGHT
END:VTIMEZONE
END:VCALENDAR