BEGIN:VCALENDAR
VERSION:2.0
PRODID:-//wp-events-plugin.com//7.2.3.1//EN
TZID:America/New_York
X-WR-TIMEZONE:America/New_York
BEGIN:VEVENT
UID:16214@goriverwalk.com
DTSTART;TZID=America/New_York:20230201T120000
DTEND;TZID=America/New_York:20230322T133000
DTSTAMP:20230127T185340Z
URL:https://www.goriverwalk.com/greater-fort-lauderdale-events/noon-tunes-
 2
SUMMARY:Noon Tunes
DESCRIPTION:Enjoy your lunch with live music!
ATTACH;FMTTYPE=image/jpeg:https://www.goriverwalk.com/wp-content/uploads/2
 023/01/Noon-Tunes-Flyer.jpg
CATEGORIES:Music
LOCATION:Stranahan Park\, 10 E. Broward Blvd.\, Fort Lauderdale\, FL\, 3330
 1\, United States
X-APPLE-STRUCTURED-LOCATION;VALUE=URI;X-ADDRESS=10 E. Broward Blvd.\, Fort 
 Lauderdale\, FL\, 33301\, United States;X-APPLE-RADIUS=100;X-TITLE=Stranah
 an Park:geo:0,0
END:VEVENT
BEGIN:VTIMEZONE
TZID:America/New_York
X-LIC-LOCATION:America/New_York
BEGIN:STANDARD
DTSTART:20221106T010000
TZOFFSETFROM:-0400
TZOFFSETTO:-0500
TZNAME:EST
END:STANDARD
BEGIN:DAYLIGHT
DTSTART:20230312T030000
TZOFFSETFROM:-0500
TZOFFSETTO:-0400
TZNAME:EDT
END:DAYLIGHT
END:VTIMEZONE
END:VCALENDAR