BEGIN:VCALENDAR
VERSION:2.0
PRODID:-//wp-events-plugin.com//7.2.3.1//EN
TZID:America/New_York
X-WR-TIMEZONE:America/New_York
BEGIN:VEVENT
UID:5660@goriverwalk.com
DTSTART;TZID=America/New_York:20181018T190000
DTEND;TZID=America/New_York:20181018T210000
DTSTAMP:20180815T195746Z
URL:https://www.goriverwalk.com/greater-fort-lauderdale-events/nightbirds-
 photos-of-nycs-dynamic-club-culture-personalities-1986-1995
SUMMARY:Nightbirds: Photos of NYC's Dynamic Club Culture Personalities 1986
 -1995
DESCRIPTION:Free public reception and exhibit talk
ATTACH;FMTTYPE=image/jpeg:https://www.goriverwalk.com/wp-content/uploads/2
 018/08/loulou-boys.jpg
CATEGORIES:Art
LOCATION:Stonewall National Museum & Archives\, 2157 Wilton Drive\, Wilton 
 Manors\, FL\, 33305\, Florida\, United States
GEO:26.1554266;-80.1395956
X-APPLE-STRUCTURED-LOCATION;VALUE=URI;X-ADDRESS=2157 Wilton Drive\, Wilton 
 Manors\, FL\, 33305\, Florida\, United States;X-APPLE-RADIUS=100;X-TITLE=S
 tonewall National Museum & Archives:geo:26.1554266,-80.1395956
END:VEVENT
BEGIN:VTIMEZONE
TZID:America/New_York
X-LIC-LOCATION:America/New_York
BEGIN:DAYLIGHT
DTSTART:20180311T030000
TZOFFSETFROM:-0500
TZOFFSETTO:-0400
TZNAME:EDT
END:DAYLIGHT
END:VTIMEZONE
END:VCALENDAR