BEGIN:VCALENDAR
VERSION:2.0
PRODID:-//wp-events-plugin.com//7.2.3.1//EN
TZID:America/New_York
X-WR-TIMEZONE:America/New_York
BEGIN:VEVENT
UID:2238@goriverwalk.com
DTSTART;TZID=America/New_York:20160409T190000
DTEND;TZID=America/New_York:20160409T220000
DTSTAMP:20160308T180050Z
URL:https://www.goriverwalk.com/greater-fort-lauderdale-events/night-of-st
 ars-20th-anniversary-of-susan-b-anthony-recovery-center
SUMMARY:Night of Stars 20th Anniversary of Susan B. Anthony Recovery Center
DESCRIPTION:Commemorating the reunification of over 850 families and servic
 e to more than 1500 women and children.
ATTACH;FMTTYPE=image/jpeg:https://www.goriverwalk.com/wp-content/uploads/2
 015/12/Default-calendar-1.jpg
CATEGORIES:Music
LOCATION:Pine Island Ridge Country Club\, 9400 Pine Ridge Drive\, Davie\, F
 lorida\, 33324\, United States
GEO:26.099813;-80.27673700000003
X-APPLE-STRUCTURED-LOCATION;VALUE=URI;X-ADDRESS=9400 Pine Ridge Drive\, Dav
 ie\, Florida\, 33324\, United States;X-APPLE-RADIUS=100;X-TITLE=Pine Islan
 d Ridge Country Club:geo:26.099813,-80.27673700000003
END:VEVENT
BEGIN:VTIMEZONE
TZID:America/New_York
X-LIC-LOCATION:America/New_York
BEGIN:DAYLIGHT
DTSTART:20160313T030000
TZOFFSETFROM:-0500
TZOFFSETTO:-0400
TZNAME:EDT
END:DAYLIGHT
END:VTIMEZONE
END:VCALENDAR