BEGIN:VCALENDAR
VERSION:2.0
PRODID:-//wp-events-plugin.com//7.2.3.1//EN
TZID:America/New_York
X-WR-TIMEZONE:America/New_York
BEGIN:VEVENT
UID:8899@goriverwalk.com
DTSTART;TZID=America/New_York:20191214T173000
DTEND;TZID=America/New_York:20191214T200000
DTSTAMP:20191202T215843Z
URL:https://www.goriverwalk.com/greater-fort-lauderdale-events/new-river-v
 iewing-parties-of-the-2019-winterfest-boat-parade
SUMMARY:New River Viewing Parties of the 2019 Winterfest Boat Parade
DESCRIPTION:Two seating options
ATTACH;FMTTYPE=image/jpeg:https://www.goriverwalk.com/wp-content/uploads/2
 013/04/Riverside+Hotel_75th+LOGO_Final.jpg
CATEGORIES:Holiday
LOCATION:The Riverside Hotel\, 620 E Las Olas Blvd\, Fort Lauderdale\, FL\,
  33301\, Broward\, United States
X-APPLE-STRUCTURED-LOCATION;VALUE=URI;X-ADDRESS=620 E Las Olas Blvd\, Fort 
 Lauderdale\, FL\, 33301\, Broward\, United States;X-APPLE-RADIUS=100;X-TIT
 LE=The Riverside Hotel:geo:0,0
END:VEVENT
BEGIN:VTIMEZONE
TZID:America/New_York
X-LIC-LOCATION:America/New_York
BEGIN:STANDARD
DTSTART:20191103T010000
TZOFFSETFROM:-0400
TZOFFSETTO:-0500
TZNAME:EST
END:STANDARD
END:VTIMEZONE
END:VCALENDAR