BEGIN:VCALENDAR
VERSION:2.0
PRODID:-//wp-events-plugin.com//7.2.3.1//EN
TZID:America/New_York
X-WR-TIMEZONE:America/New_York
BEGIN:VEVENT
UID:6840@goriverwalk.com
DTSTART;TZID=America/New_York:20190211T190000
DTEND;TZID=America/New_York:20190211T210000
DTSTAMP:20190204T165853Z
URL:https://www.goriverwalk.com/greater-fort-lauderdale-events/new-city-pl
 ayers-the-green-room-2
SUMMARY:New City Players: The Green Room
DESCRIPTION:For theater nerds!
ATTACH;FMTTYPE=image/jpeg:https://www.goriverwalk.com/wp-content/uploads/2
 019/02/IMG_5859-copy.jpg
CATEGORIES:Community,Education,Theater
LOCATION:Cafe Collective\, 100 N Federal Highway\, Fort Lauderdale\, FL\, 3
 3301\, Broward\, United States
GEO:26.122887;-80.136665
X-APPLE-STRUCTURED-LOCATION;VALUE=URI;X-ADDRESS=100 N Federal Highway\, For
 t Lauderdale\, FL\, 33301\, Broward\, United States;X-APPLE-RADIUS=100;X-T
 ITLE=Cafe Collective:geo:26.122887,-80.136665
END:VEVENT
BEGIN:VTIMEZONE
TZID:America/New_York
X-LIC-LOCATION:America/New_York
BEGIN:STANDARD
DTSTART:20181104T010000
TZOFFSETFROM:-0400
TZOFFSETTO:-0500
TZNAME:EST
END:STANDARD
END:VTIMEZONE
END:VCALENDAR