BEGIN:VCALENDAR
VERSION:2.0
PRODID:-//wp-events-plugin.com//7.2.3.1//EN
TZID:America/New_York
X-WR-TIMEZONE:America/New_York
BEGIN:VEVENT
UID:8516@goriverwalk.com
DTSTART;TZID=America/New_York:20191028T190000
DTEND;TZID=America/New_York:20191028T210000
DTSTAMP:20191025T192051Z
URL:https://www.goriverwalk.com/greater-fort-lauderdale-events/new-city-pl
 ayers-lab-4
SUMMARY:New City Players: LAB
DESCRIPTION:Get support from your peers
ATTACH;FMTTYPE=image/jpeg:https://www.goriverwalk.com/wp-content/uploads/2
 019/03/new-city-players.png
CATEGORIES:Community
LOCATION:Café Collective\, 100 N Federal Highway\, #C4-3\, Fort Lauderdale
 \, FL\, 33301\, United States
X-APPLE-STRUCTURED-LOCATION;VALUE=URI;X-ADDRESS=100 N Federal Highway\, #C4
 -3\, Fort Lauderdale\, FL\, 33301\, United States;X-APPLE-RADIUS=100;X-TIT
 LE=Café Collective:geo:0,0
END:VEVENT
BEGIN:VTIMEZONE
TZID:America/New_York
X-LIC-LOCATION:America/New_York
BEGIN:DAYLIGHT
DTSTART:20190310T030000
TZOFFSETFROM:-0500
TZOFFSETTO:-0400
TZNAME:EDT
END:DAYLIGHT
END:VTIMEZONE
END:VCALENDAR