BEGIN:VCALENDAR
VERSION:2.0
PRODID:-//wp-events-plugin.com//7.2.3.1//EN
TZID:America/New_York
X-WR-TIMEZONE:America/New_York
BEGIN:VEVENT
UID:19464@goriverwalk.com
DTSTART;TZID=America/New_York:20240822T173000
DTEND;TZID=America/New_York:20240822T203000
DTSTAMP:20240820T173542Z
URL:https://www.goriverwalk.com/greater-fort-lauderdale-events/networking-
 event-to-benefit-childrens-harbor-at-empire-social
SUMMARY:Safe Harbor Society Mixer
DESCRIPTION:Catch up on what’s been happening at Children's Harbor
ATTACH;FMTTYPE=image/jpeg:https://www.goriverwalk.com/wp-content/uploads/2
 024/07/Childrens-Harbor-Safe-Harbor-Society-Mixer-Aug.-22-2024-at-Empire-S
 ocial-Lounge-500-X-500.jpg
CATEGORIES:Community
LOCATION:Empire Social Lounge\, 350 SE 2nd St\, Fort Lauderdale\, FL\, 3330
 1\, United States
X-APPLE-STRUCTURED-LOCATION;VALUE=URI;X-ADDRESS=350 SE 2nd St\, Fort Lauder
 dale\, FL\, 33301\, United States;X-APPLE-RADIUS=100;X-TITLE=Empire Social
  Lounge:geo:0,0
END:VEVENT
BEGIN:VTIMEZONE
TZID:America/New_York
X-LIC-LOCATION:America/New_York
BEGIN:DAYLIGHT
DTSTART:20240310T030000
TZOFFSETFROM:-0500
TZOFFSETTO:-0400
TZNAME:EDT
END:DAYLIGHT
END:VTIMEZONE
END:VCALENDAR