BEGIN:VCALENDAR
VERSION:2.0
PRODID:-//wp-events-plugin.com//7.2.3.1//EN
TZID:America/New_York
X-WR-TIMEZONE:America/New_York
BEGIN:VEVENT
UID:2150@goriverwalk.com
DTSTART;TZID=America/New_York:20160408T180000
DTEND;TZID=America/New_York:20160408T210000
DTSTAMP:20160307T210758Z
URL:https://www.goriverwalk.com/greater-fort-lauderdale-events/nereida-gar
 cia-ferraz-opening-reception
SUMMARY:Nereida Garcia-Ferraz Opening Reception
DESCRIPTION:Nereida Garcia-Ferraz: As Close As You Want
ATTACH;FMTTYPE=image/jpeg:https://www.goriverwalk.com/wp-content/uploads/2
 015/12/Default-calendar-1.jpg
CATEGORIES:Art
LOCATION:Art and Culture Center/Hollywood\, 1650 Harrison Street\, Hollywoo
 d\, Florida\, 33020\, United States
GEO:26.010349;-80.140602
X-APPLE-STRUCTURED-LOCATION;VALUE=URI;X-ADDRESS=1650 Harrison Street\, Holl
 ywood\, Florida\, 33020\, United States;X-APPLE-RADIUS=100;X-TITLE=Art and
  Culture Center/Hollywood:geo:26.010349,-80.140602
END:VEVENT
BEGIN:VTIMEZONE
TZID:America/New_York
X-LIC-LOCATION:America/New_York
BEGIN:DAYLIGHT
DTSTART:20160313T030000
TZOFFSETFROM:-0500
TZOFFSETTO:-0400
TZNAME:EDT
END:DAYLIGHT
END:VTIMEZONE
END:VCALENDAR