BEGIN:VCALENDAR
VERSION:2.0
PRODID:-//wp-events-plugin.com//7.2.3.1//EN
TZID:America/New_York
X-WR-TIMEZONE:America/New_York
BEGIN:VEVENT
UID:7296@goriverwalk.com
DTSTART;TZID=America/New_York:20190509T181500
DTEND;TZID=America/New_York:20190509T204500
DTSTAMP:20190429T155152Z
URL:https://www.goriverwalk.com/greater-fort-lauderdale-events/nawbo-mento
 ring-may
SUMMARY:NAWBO Mentoring May
DESCRIPTION:Meet local business executives
ATTACH;FMTTYPE=image/jpeg:https://www.goriverwalk.com/wp-content/uploads/2
 019/04/nawbo_mentoringmay-1-1.png
CATEGORIES:Business
LOCATION:Fort Lauderdale Marriott North Hotel\, 6650 N. Andrews Avenue\, Fo
 rt Lauderdale\, FL\, 33309\, North Broward\, United States
GEO:26.2076182;-80.142853
X-APPLE-STRUCTURED-LOCATION;VALUE=URI;X-ADDRESS=6650 N. Andrews Avenue\, Fo
 rt Lauderdale\, FL\, 33309\, North Broward\, United States;X-APPLE-RADIUS=
 100;X-TITLE=Fort Lauderdale Marriott North Hotel:geo:26.2076182,-80.142853
END:VEVENT
BEGIN:VTIMEZONE
TZID:America/New_York
X-LIC-LOCATION:America/New_York
BEGIN:DAYLIGHT
DTSTART:20190310T030000
TZOFFSETFROM:-0500
TZOFFSETTO:-0400
TZNAME:EDT
END:DAYLIGHT
END:VTIMEZONE
END:VCALENDAR