BEGIN:VCALENDAR
VERSION:2.0
PRODID:-//wp-events-plugin.com//7.2.3.1//EN
TZID:America/New_York
X-WR-TIMEZONE:America/New_York
BEGIN:VEVENT
UID:16420@goriverwalk.com
DTSTART;TZID=America/New_York:20230221T190000
DTEND;TZID=America/New_York:20230221T210000
DTSTAMP:20230209T154946Z
URL:https://www.goriverwalk.com/greater-fort-lauderdale-events/navigating-
 the-college-search-for-students-who-learn-differently
SUMMARY:Navigating the College Search for Students Who Learn Differently
DESCRIPTION:With expert Ferne Bork
ATTACH;FMTTYPE=image/jpeg:https://www.goriverwalk.com/wp-content/uploads/2
 023/02/Ferne-Bork-copy-2.png
CATEGORIES:Education
END:VEVENT
BEGIN:VTIMEZONE
TZID:America/New_York
X-LIC-LOCATION:America/New_York
BEGIN:STANDARD
DTSTART:20221106T010000
TZOFFSETFROM:-0400
TZOFFSETTO:-0500
TZNAME:EST
END:STANDARD
END:VTIMEZONE
END:VCALENDAR