BEGIN:VCALENDAR
VERSION:2.0
PRODID:-//wp-events-plugin.com//7.2.3.1//EN
TZID:America/New_York
X-WR-TIMEZONE:America/New_York
BEGIN:VEVENT
UID:6149@goriverwalk.com
DTSTART;TZID=America/New_York:20181117T080000
DTEND;TZID=America/New_York:20181117T120000
DTSTAMP:20181031T201228Z
URL:https://www.goriverwalk.com/greater-fort-lauderdale-events/national-ki
 dney-foundation-of-florida-kidney-walk
SUMMARY:National Kidney Foundation of Florida Kidney Walk
DESCRIPTION:Fort Lauderdale Kidney Walk
ATTACH;FMTTYPE=image/jpeg:https://www.goriverwalk.com/wp-content/uploads/2
 017/11/Default-calendar.jpg
CATEGORIES:Fundraiser
LOCATION:Nova Southeastern University\, 3301 College Avenue\, Davie\, FL\, 
 33314\, United States
GEO:26.078607;-80.24353910000002
X-APPLE-STRUCTURED-LOCATION;VALUE=URI;X-ADDRESS=3301 College Avenue\, Davie
 \, FL\, 33314\, United States;X-APPLE-RADIUS=100;X-TITLE=Nova Southeastern
  University:geo:26.078607,-80.24353910000002
END:VEVENT
BEGIN:VTIMEZONE
TZID:America/New_York
X-LIC-LOCATION:America/New_York
BEGIN:STANDARD
DTSTART:20181104T010000
TZOFFSETFROM:-0400
TZOFFSETTO:-0500
TZNAME:EST
END:STANDARD
END:VTIMEZONE
END:VCALENDAR