BEGIN:VCALENDAR
VERSION:2.0
PRODID:-//wp-events-plugin.com//7.2.3.1//EN
TZID:America/New_York
X-WR-TIMEZONE:America/New_York
BEGIN:VEVENT
UID:6376@goriverwalk.com
DTSTART;TZID=America/New_York:20181117T083000
DTEND;TZID=America/New_York:20181117T120000
DTSTAMP:20181115T162414Z
URL:https://www.goriverwalk.com/greater-fort-lauderdale-events/national-ad
 option-month-event
SUMMARY:National Adoption Month Event
DESCRIPTION:Witness a foster child being adopted
ATTACH;FMTTYPE=image/jpeg:https://www.goriverwalk.com/wp-content/uploads/2
 018/11/Broward-County-Adoption-Day-with-Judge-IMG_0290.jpg
CATEGORIES:Community
LOCATION:Broward County Courthouse\, 201 SE 6th Street\, Fort Lauderdale\, 
 FL\, 33301\, United States
GEO:26.1151823;-80.14155
X-APPLE-STRUCTURED-LOCATION;VALUE=URI;X-ADDRESS=201 SE 6th Street\, Fort La
 uderdale\, FL\, 33301\, United States;X-APPLE-RADIUS=100;X-TITLE=Broward C
 ounty Courthouse:geo:26.1151823,-80.14155
END:VEVENT
BEGIN:VTIMEZONE
TZID:America/New_York
X-LIC-LOCATION:America/New_York
BEGIN:STANDARD
DTSTART:20181104T010000
TZOFFSETFROM:-0400
TZOFFSETTO:-0500
TZNAME:EST
END:STANDARD
END:VTIMEZONE
END:VCALENDAR