BEGIN:VCALENDAR
VERSION:2.0
PRODID:-//wp-events-plugin.com//7.2.3.1//EN
TZID:America/New_York
X-WR-TIMEZONE:America/New_York
BEGIN:VEVENT
UID:5743@goriverwalk.com
DTSTART;TZID=America/New_York:20181004T170000
DTEND;TZID=America/New_York:20181004T190000
DTSTAMP:20180912T144338Z
URL:https://www.goriverwalk.com/greater-fort-lauderdale-events/naiop-south
 -floridas-signature-speaker-series
SUMMARY:NAIOP South Florida’s Signature Speaker Series
DESCRIPTION:Presents Richard Florida
ATTACH;FMTTYPE=image/jpeg:https://www.goriverwalk.com/wp-content/uploads/2
 017/11/Default-calendar.jpg
CATEGORIES:Business
LOCATION:W Fort Lauderdale Beach\, 401 North Fort Lauderdale Beach Blvd\, F
 ort Lauderdale\, FL\, 33304\, United States
GEO:26.1285284;-80.10473000000002
X-APPLE-STRUCTURED-LOCATION;VALUE=URI;X-ADDRESS=401 North Fort Lauderdale B
 each Blvd\, Fort Lauderdale\, FL\, 33304\, United States;X-APPLE-RADIUS=10
 0;X-TITLE=W Fort Lauderdale Beach:geo:26.1285284,-80.10473000000002
END:VEVENT
BEGIN:VTIMEZONE
TZID:America/New_York
X-LIC-LOCATION:America/New_York
BEGIN:DAYLIGHT
DTSTART:20180311T030000
TZOFFSETFROM:-0500
TZOFFSETTO:-0400
TZNAME:EDT
END:DAYLIGHT
END:VTIMEZONE
END:VCALENDAR