BEGIN:VCALENDAR
VERSION:2.0
PRODID:-//wp-events-plugin.com//7.2.3.1//EN
TZID:America/New_York
X-WR-TIMEZONE:America/New_York
BEGIN:VEVENT
UID:5656@goriverwalk.com
DTSTART;TZID=America/New_York:20180927T110000
DTEND;TZID=America/New_York:20180927T170000
DTSTAMP:20180815T204009Z
URL:https://www.goriverwalk.com/greater-fort-lauderdale-events/naiop-south
 -floridas-broward-county-bus-tour
SUMMARY:NAIOP South Florida’s Broward County Bus Tour
DESCRIPTION:A real estate development organization
ATTACH;FMTTYPE=image/jpeg:https://www.goriverwalk.com/wp-content/uploads/2
 017/11/Default-calendar.jpg
CATEGORIES:Business
LOCATION:Miramar Park of Commerce\, MPC-30\, 3150 Executive Way\, Miramar\,
  Florida \, 33025\, United States
GEO:25.9811533;-80.28799070000002
X-APPLE-STRUCTURED-LOCATION;VALUE=URI;X-ADDRESS=3150 Executive Way\, Mirama
 r\, Florida \, 33025\, United States;X-APPLE-RADIUS=100;X-TITLE=Miramar Pa
 rk of Commerce\, MPC-30:geo:25.9811533,-80.28799070000002
END:VEVENT
BEGIN:VTIMEZONE
TZID:America/New_York
X-LIC-LOCATION:America/New_York
BEGIN:DAYLIGHT
DTSTART:20180311T030000
TZOFFSETFROM:-0500
TZOFFSETTO:-0400
TZNAME:EDT
END:DAYLIGHT
END:VTIMEZONE
END:VCALENDAR