BEGIN:VCALENDAR
VERSION:2.0
PRODID:-//wp-events-plugin.com//7.2.3.1//EN
TZID:America/New_York
X-WR-TIMEZONE:America/New_York
BEGIN:VEVENT
UID:16361@goriverwalk.com
DTSTART;TZID=America/New_York:20230311T140000
DTEND;TZID=America/New_York:20230312T154500
DTSTAMP:20230202T145452Z
URL:https://www.goriverwalk.com/greater-fort-lauderdale-events/mystic-sage
 -daniel-clay-2023-03-11
SUMMARY:Mystic & Sage Daniel Clay
DESCRIPTION:Harbinger Of The New Era\, Lecture & Workshop
ATTACH;FMTTYPE=image/jpeg:https://www.goriverwalk.com/wp-content/uploads/2
 023/02/Mystic-Sage-Daniel-Clay-Harbinger-Of-The-New-Era-Lecture-Workshop.j
 pg
CATEGORIES:Community,Cultural,Education
LOCATION:DoubleTree by Hilton Hotel Deerfield Beach\, 100 Fairway Drive\, D
 eerfield Beach\, FL\, 33441\, United States
X-APPLE-STRUCTURED-LOCATION;VALUE=URI;X-ADDRESS=100 Fairway Drive\, Deerfie
 ld Beach\, FL\, 33441\, United States;X-APPLE-RADIUS=100;X-TITLE=DoubleTre
 e by Hilton Hotel Deerfield Beach:geo:0,0
END:VEVENT
BEGIN:VTIMEZONE
TZID:America/New_York
X-LIC-LOCATION:America/New_York
BEGIN:STANDARD
DTSTART:20221106T010000
TZOFFSETFROM:-0400
TZOFFSETTO:-0500
TZNAME:EST
END:STANDARD
BEGIN:DAYLIGHT
DTSTART:20230312T030000
TZOFFSETFROM:-0500
TZOFFSETTO:-0400
TZNAME:EDT
END:DAYLIGHT
END:VTIMEZONE
END:VCALENDAR