BEGIN:VCALENDAR
VERSION:2.0
PRODID:-//wp-events-plugin.com//7.2.3.1//EN
TZID:America/New_York
X-WR-TIMEZONE:America/New_York
BEGIN:VEVENT
UID:7526@goriverwalk.com
DTSTART;TZID=America/New_York:20191204T190000
DTEND;TZID=America/New_York:20191204T190000
DTSTAMP:20190624T184014Z
URL:https://www.goriverwalk.com/greater-fort-lauderdale-events/mystery-sci
 ence-theatre-3000-live-the-great-cheesy-movie-circus-tour
SUMMARY:MYSTERY SCIENCE THEATRE 3000 LIVE: THE GREAT CHEESY MOVIE CIRCUS TO
 UR!
DESCRIPTION:All new show
ATTACH;FMTTYPE=image/jpeg:https://www.goriverwalk.com/wp-content/uploads/2
 019/06/MST3K-VERTICAL_GOLD_Rd1.jpg
CATEGORIES:Comedy
LOCATION:Parker Playhouse\, 707 NE 8th Street\, Fort Lauderdale\, FL\, 3330
 4\, United States
GEO:26.134246;-80.13617199999999
X-APPLE-STRUCTURED-LOCATION;VALUE=URI;X-ADDRESS=707 NE 8th Street\, Fort La
 uderdale\, FL\, 33304\, United States;X-APPLE-RADIUS=100;X-TITLE=Parker Pl
 ayhouse:geo:26.134246,-80.13617199999999
END:VEVENT
BEGIN:VTIMEZONE
TZID:America/New_York
X-LIC-LOCATION:America/New_York
BEGIN:STANDARD
DTSTART:20191103T010000
TZOFFSETFROM:-0400
TZOFFSETTO:-0500
TZNAME:EST
END:STANDARD
END:VTIMEZONE
END:VCALENDAR