BEGIN:VCALENDAR
VERSION:2.0
PRODID:-//wp-events-plugin.com//7.2.3.1//EN
TZID:America/New_York
X-WR-TIMEZONE:America/New_York
BEGIN:VEVENT
UID:6730@goriverwalk.com
DTSTART;TZID=America/New_York:20190223T063000
DTEND;TZID=America/New_York:20190223T120000
DTSTAMP:20190115T202926Z
URL:https://www.goriverwalk.com/greater-fort-lauderdale-events/msd-heroes-
 challenge
SUMMARY:MSD Heroes Challenge
DESCRIPTION:Raising money for scholarships
ATTACH;FMTTYPE=image/jpeg:https://www.goriverwalk.com/wp-content/uploads/2
 019/01/msd-hero-challenge.jpg
CATEGORIES:Community,Fundraiser
LOCATION:Parkland Equestrian Center\, 8350 Ranch Road\, Parkland\, Florida\
 , 33067\, Florida\, United States
GEO:26.3099606;-80.2383395
X-APPLE-STRUCTURED-LOCATION;VALUE=URI;X-ADDRESS=8350 Ranch Road\, Parkland\
 , Florida\, 33067\, Florida\, United States;X-APPLE-RADIUS=100;X-TITLE=Par
 kland Equestrian Center:geo:26.3099606,-80.2383395
END:VEVENT
BEGIN:VTIMEZONE
TZID:America/New_York
X-LIC-LOCATION:America/New_York
BEGIN:STANDARD
DTSTART:20181104T010000
TZOFFSETFROM:-0400
TZOFFSETTO:-0500
TZNAME:EST
END:STANDARD
END:VTIMEZONE
END:VCALENDAR