BEGIN:VCALENDAR
VERSION:2.0
PRODID:-//wp-events-plugin.com//7.2.3.1//EN
TZID:America/New_York
X-WR-TIMEZONE:America/New_York
BEGIN:VEVENT
UID:18741@goriverwalk.com
DTSTART;TZID=America/New_York:20240405T200000
DTEND;TZID=America/New_York:20240405T213000
DTSTAMP:20240311T184443Z
URL:https://www.goriverwalk.com/greater-fort-lauderdale-events/mozarts-gre
 at-mass-in-c-minor
SUMMARY:Mozart’s Great Mass in C Minor
DESCRIPTION:An undisputed masterpiece revered by Mozart fans
ATTACH;FMTTYPE=image/jpeg:https://www.goriverwalk.com/wp-content/uploads/2
 024/03/RiverWalk-Calendar-Graphic-Size-700-x-700-min.png
CATEGORIES:Music
LOCATION:Coral Ridge Presbyterian Church\, 5555 N Federal Hwy\, Fort Lauder
 dale\, Florida\, 33308\, Florida\, United States
GEO:26.1957947;-80.11293460000002
X-APPLE-STRUCTURED-LOCATION;VALUE=URI;X-ADDRESS=5555 N Federal Hwy\, Fort L
 auderdale\, Florida\, 33308\, Florida\, United States;X-APPLE-RADIUS=100;X
 -TITLE=Coral Ridge Presbyterian Church:geo:26.1957947,-80.11293460000002
END:VEVENT
BEGIN:VTIMEZONE
TZID:America/New_York
X-LIC-LOCATION:America/New_York
BEGIN:DAYLIGHT
DTSTART:20240310T030000
TZOFFSETFROM:-0500
TZOFFSETTO:-0400
TZNAME:EDT
END:DAYLIGHT
END:VTIMEZONE
END:VCALENDAR