BEGIN:VCALENDAR
VERSION:2.0
PRODID:-//wp-events-plugin.com//7.2.3.1//EN
TZID:America/New_York
X-WR-TIMEZONE:America/New_York
BEGIN:VEVENT
UID:16346@goriverwalk.com
DTSTART;TZID=America/New_York:20230310T190000
DTEND;TZID=America/New_York:20230310T213000
DTSTAMP:20230131T173952Z
URL:https://www.goriverwalk.com/greater-fort-lauderdale-events/movies-on-t
 he-drive
SUMMARY:Movies on the Drive
DESCRIPTION:Willie Wonka & The Chocolate Factory
ATTACH;FMTTYPE=image/jpeg:https://www.goriverwalk.com/wp-content/uploads/2
 023/01/willy-wonka.jpg
CATEGORIES:Community,Movie
LOCATION:Hagen Park\, 2020 Wilton Drive \, Wilton Manors\, FL\, 33305\, Uni
 ted States
GEO:26.1537456;-80.13989649999996
X-APPLE-STRUCTURED-LOCATION;VALUE=URI;X-ADDRESS=2020 Wilton Drive \, Wilton
  Manors\, FL\, 33305\, United States;X-APPLE-RADIUS=100;X-TITLE=Hagen Park
 :geo:26.1537456,-80.13989649999996
END:VEVENT
BEGIN:VTIMEZONE
TZID:America/New_York
X-LIC-LOCATION:America/New_York
BEGIN:STANDARD
DTSTART:20221106T010000
TZOFFSETFROM:-0400
TZOFFSETTO:-0500
TZNAME:EST
END:STANDARD
END:VTIMEZONE
END:VCALENDAR