BEGIN:VCALENDAR
VERSION:2.0
PRODID:-//wp-events-plugin.com//7.2.3.1//EN
TZID:America/New_York
X-WR-TIMEZONE:America/New_York
BEGIN:VEVENT
UID:4966@goriverwalk.com
DTSTART;TZID=America/New_York:20180804T090000
DTEND;TZID=America/New_York:20180804T170000
DTSTAMP:20180606T184800Z
URL:https://www.goriverwalk.com/greater-fort-lauderdale-events/motherhood-
 rewritten
SUMMARY:Motherhood Rewritten
DESCRIPTION:A theatrical conference to inspire and entertain
ATTACH;FMTTYPE=image/jpeg:https://www.goriverwalk.com/wp-content/uploads/2
 017/11/Default-calendar.jpg
CATEGORIES:Community,Education
LOCATION:Pompano Beach Cultural Center\, 50 W Atlantic Blvd \, Pompano Beac
 h \, FL \, 33060\, United States
GEO:26.230663;-80.123886
X-APPLE-STRUCTURED-LOCATION;VALUE=URI;X-ADDRESS=50 W Atlantic Blvd \, Pompa
 no Beach \, FL \, 33060\, United States;X-APPLE-RADIUS=100;X-TITLE=Pompano
  Beach Cultural Center:geo:26.230663,-80.123886
END:VEVENT
BEGIN:VTIMEZONE
TZID:America/New_York
X-LIC-LOCATION:America/New_York
BEGIN:DAYLIGHT
DTSTART:20180311T030000
TZOFFSETFROM:-0500
TZOFFSETTO:-0400
TZNAME:EDT
END:DAYLIGHT
END:VTIMEZONE
END:VCALENDAR