BEGIN:VCALENDAR
VERSION:2.0
PRODID:-//wp-events-plugin.com//7.2.3.1//EN
TZID:America/New_York
X-WR-TIMEZONE:America/New_York
BEGIN:VEVENT
UID:14445@goriverwalk.com
DTSTART;TZID=America/New_York:20220725T090000
DTEND;TZID=America/New_York:20220729T120000
DTSTAMP:20220623T200337Z
URL:https://www.goriverwalk.com/greater-fort-lauderdale-events/mission-wil
 dlife-conservation
SUMMARY:Mission: Wildlife Conservation
DESCRIPTION:A virtual summer camp!
ATTACH;FMTTYPE=image/jpeg:https://www.goriverwalk.com/wp-content/uploads/2
 022/06/2022-wild-about-wildlife-1-3.jpg
CATEGORIES:Education,Nature
END:VEVENT
BEGIN:VTIMEZONE
TZID:America/New_York
X-LIC-LOCATION:America/New_York
BEGIN:DAYLIGHT
DTSTART:20220313T030000
TZOFFSETFROM:-0500
TZOFFSETTO:-0400
TZNAME:EDT
END:DAYLIGHT
END:VTIMEZONE
END:VCALENDAR