BEGIN:VCALENDAR
VERSION:2.0
PRODID:-//wp-events-plugin.com//7.2.3.1//EN
TZID:America/New_York
X-WR-TIMEZONE:America/New_York
BEGIN:VEVENT
UID:2363@goriverwalk.com
DTSTART;TZID=America/New_York:20160611T100000
DTEND;TZID=America/New_York:20160611T130000
DTSTAMP:20160607T143100Z
URL:https://www.goriverwalk.com/greater-fort-lauderdale-events/mission-uni
 ted-free-veterans-homeownership-event
SUMMARY:MISSION UNITED Free Veterans Home Ownership Event
DESCRIPTION:Veterans will be given an in-depth look at the steps involved i
 n purchasing a home.
ATTACH;FMTTYPE=image/jpeg:https://www.goriverwalk.com/wp-content/uploads/2
 016/06/small-The-Jean-and-David-Colker-Center.jpg
CATEGORIES:Education
LOCATION:United Way of Broward County Jean and David Colker Center\, 1300 S
  Andrews Avenue\, Fort Lauderdale\, FL\, 33316\, United States
GEO:26.105734;-80.1427683
X-APPLE-STRUCTURED-LOCATION;VALUE=URI;X-ADDRESS=1300 S Andrews Avenue\, For
 t Lauderdale\, FL\, 33316\, United States;X-APPLE-RADIUS=100;X-TITLE=Unite
 d Way of Broward County Jean and David Colker Center:geo:26.105734,-80.142
 7683
END:VEVENT
BEGIN:VTIMEZONE
TZID:America/New_York
X-LIC-LOCATION:America/New_York
BEGIN:DAYLIGHT
DTSTART:20160313T030000
TZOFFSETFROM:-0500
TZOFFSETTO:-0400
TZNAME:EDT
END:DAYLIGHT
END:VTIMEZONE
END:VCALENDAR