BEGIN:VCALENDAR
VERSION:2.0
PRODID:-//wp-events-plugin.com//7.2.3.1//EN
TZID:America/New_York
X-WR-TIMEZONE:America/New_York
BEGIN:VEVENT
UID:2359@goriverwalk.com
DTSTART;TZID=America/New_York:20160618T150000
DTEND;TZID=America/New_York:20160618T163000
DTSTAMP:20160526T132123Z
URL:https://www.goriverwalk.com/greater-fort-lauderdale-events/mini-muse-t
 extile-collage-inspired-by-ebony-g-patterson
SUMMARY:Mini Muse: Textile Collage inspired by Ebony G. Patterson
DESCRIPTION:A monthly art education program for children 5-10 years old.
ATTACH;FMTTYPE=image/jpeg:https://www.goriverwalk.com/wp-content/uploads/2
 015/12/Default-calendar-1.jpg
CATEGORIES:Art,Cultural,Education
LOCATION:NSU Art Museum Fort Lauderdale\, 1 East Las Olas Boulevard\, Fort 
 Lauderdale\, FL\, 33301\, United States
GEO:26.1198346;-80.14277179999999
X-APPLE-STRUCTURED-LOCATION;VALUE=URI;X-ADDRESS=1 East Las Olas Boulevard\,
  Fort Lauderdale\, FL\, 33301\, United States;X-APPLE-RADIUS=100;X-TITLE=N
 SU Art Museum Fort Lauderdale:geo:26.1198346,-80.14277179999999
END:VEVENT
BEGIN:VTIMEZONE
TZID:America/New_York
X-LIC-LOCATION:America/New_York
BEGIN:DAYLIGHT
DTSTART:20160313T030000
TZOFFSETFROM:-0500
TZOFFSETTO:-0400
TZNAME:EDT
END:DAYLIGHT
END:VTIMEZONE
END:VCALENDAR