BEGIN:VCALENDAR
VERSION:2.0
PRODID:-//wp-events-plugin.com//7.2.3.1//EN
TZID:America/New_York
X-WR-TIMEZONE:America/New_York
BEGIN:VEVENT
UID:18246@goriverwalk.com
DTSTART;TZID=America/New_York:20240201T163000
DTEND;TZID=America/New_York:20240201T183000
DTSTAMP:20231201T202633Z
URL:https://www.goriverwalk.com/greater-fort-lauderdale-events/mini-muse-2
SUMMARY:Mini Muse
DESCRIPTION:Free Art Making at NSU Art Museum
ATTACH;FMTTYPE=image/jpeg:https://www.goriverwalk.com/wp-content/uploads/2
 023/11/MiniMuse-squiggles-small-1.png
CATEGORIES:Art,Children,Community,Cultural,Education,Health,History,Hobby,
 Science
LOCATION:NSU Art Museum\, 1 East Las Olas Boulevard\, Fort Lauderdale\, FL\
 , 33301\, United States
GEO:26.1194368;-80.14276569999998
X-APPLE-STRUCTURED-LOCATION;VALUE=URI;X-ADDRESS=1 East Las Olas Boulevard\,
  Fort Lauderdale\, FL\, 33301\, United States;X-APPLE-RADIUS=100;X-TITLE=N
 SU Art Museum:geo:26.1194368,-80.14276569999998
END:VEVENT
BEGIN:VTIMEZONE
TZID:America/New_York
X-LIC-LOCATION:America/New_York
BEGIN:STANDARD
DTSTART:20231105T010000
TZOFFSETFROM:-0400
TZOFFSETTO:-0500
TZNAME:EST
END:STANDARD
END:VTIMEZONE
END:VCALENDAR