BEGIN:VCALENDAR
VERSION:2.0
PRODID:-//wp-events-plugin.com//7.2.3.1//EN
TZID:America/New_York
X-WR-TIMEZONE:America/New_York
BEGIN:VEVENT
UID:5903@goriverwalk.com
DTSTART;TZID=America/New_York:20181019T190000
DTEND;TZID=America/New_York:20181019T210000
DTSTAMP:20180927T200117Z
URL:https://www.goriverwalk.com/greater-fort-lauderdale-events/mickey-hart
 -north-american-art-tour
SUMMARY:Mickey Hart North American Art Tour
DESCRIPTION:Grateful Dead Drummer Art
ATTACH;FMTTYPE=image/jpeg:https://www.goriverwalk.com/wp-content/uploads/2
 018/09/grateful-dead.png
CATEGORIES:Art
LOCATION:Wentworth Gallery: Fort Lauderdale\, 819 E Las Olas Boulevard\, Fo
 rt Lauderdale\, FL\, 33301\, United States
GEO:26.1194277;-80.13459460000001
X-APPLE-STRUCTURED-LOCATION;VALUE=URI;X-ADDRESS=819 E Las Olas Boulevard\, 
 Fort Lauderdale\, FL\, 33301\, United States;X-APPLE-RADIUS=100;X-TITLE=We
 ntworth Gallery: Fort Lauderdale:geo:26.1194277,-80.13459460000001
END:VEVENT
BEGIN:VTIMEZONE
TZID:America/New_York
X-LIC-LOCATION:America/New_York
BEGIN:DAYLIGHT
DTSTART:20180311T030000
TZOFFSETFROM:-0500
TZOFFSETTO:-0400
TZNAME:EDT
END:DAYLIGHT
END:VTIMEZONE
END:VCALENDAR