BEGIN:VCALENDAR
VERSION:2.0
PRODID:-//wp-events-plugin.com//7.2.3.1//EN
TZID:America/New_York
X-WR-TIMEZONE:America/New_York
BEGIN:VEVENT
UID:2513@goriverwalk.com
DTSTART;TZID=America/New_York:20160911T130000
DTEND;TZID=America/New_York:20160911T230000
DTSTAMP:20160825T151829Z
URL:https://www.goriverwalk.com/greater-fort-lauderdale-events/miami-dolph
 ins-season-opener-block-party
SUMMARY:Miami Dolphins Season Opener Block Party
DESCRIPTION:South Florida’s largest football season kick-off block party.
ATTACH;FMTTYPE=image/jpeg:https://www.goriverwalk.com/wp-content/uploads/2
 016/08/small_Himmarshee-Public-House_Block-Party.jpg
CATEGORIES:Community,Food
LOCATION:Himmarshee Public House\, 201 SW 2nd Street\, Fort Lauderdale\, FL
 \, 33301\, United States
GEO:26.1207111;-80.1458553
X-APPLE-STRUCTURED-LOCATION;VALUE=URI;X-ADDRESS=201 SW 2nd Street\, Fort La
 uderdale\, FL\, 33301\, United States;X-APPLE-RADIUS=100;X-TITLE=Himmarshe
 e Public House:geo:26.1207111,-80.1458553
END:VEVENT
BEGIN:VTIMEZONE
TZID:America/New_York
X-LIC-LOCATION:America/New_York
BEGIN:DAYLIGHT
DTSTART:20160313T030000
TZOFFSETFROM:-0500
TZOFFSETTO:-0400
TZNAME:EDT
END:DAYLIGHT
END:VTIMEZONE
END:VCALENDAR