BEGIN:VCALENDAR
VERSION:2.0
PRODID:-//wp-events-plugin.com//7.2.3.1//EN
TZID:America/New_York
X-WR-TIMEZONE:America/New_York
BEGIN:VEVENT
UID:5790@goriverwalk.com
DTSTART;TZID=America/New_York:20180920T170000
DTEND;TZID=America/New_York:20180920T200000
DTSTAMP:20180912T144047Z
URL:https://www.goriverwalk.com/greater-fort-lauderdale-events/merrill-lyn
 ch-women-and-financial-wellness-event
SUMMARY:Merrill Lynch "Women and Financial Wellness" Event
DESCRIPTION:Examines the specific financial challenges women face
ATTACH;FMTTYPE=image/jpeg:https://www.goriverwalk.com/wp-content/uploads/2
 018/09/Womens-Flyer-JPEG.jpg
CATEGORIES:Education
LOCATION:The Ritz Carlton Fort Lauderdale\, 1 N Fort Lauderdale Beach Boule
 vard\, Fort Lauderdale\, Florida\, United States
GEO:26.122976;-80.10473999999999
X-APPLE-STRUCTURED-LOCATION;VALUE=URI;X-ADDRESS=1 N Fort Lauderdale Beach B
 oulevard\, Fort Lauderdale\, Florida\, United States;X-APPLE-RADIUS=100;X-
 TITLE=The Ritz Carlton Fort Lauderdale:geo:26.122976,-80.10473999999999
END:VEVENT
BEGIN:VTIMEZONE
TZID:America/New_York
X-LIC-LOCATION:America/New_York
BEGIN:DAYLIGHT
DTSTART:20180311T030000
TZOFFSETFROM:-0500
TZOFFSETTO:-0400
TZNAME:EDT
END:DAYLIGHT
END:VTIMEZONE
END:VCALENDAR