BEGIN:VCALENDAR
VERSION:2.0
PRODID:-//wp-events-plugin.com//7.2.3.1//EN
TZID:America/New_York
X-WR-TIMEZONE:America/New_York
BEGIN:VEVENT
UID:11634@goriverwalk.com
DTSTART;TZID=America/New_York:20220115T193000
DTEND;TZID=America/New_York:20220115T220000
DTSTAMP:20210721T191303Z
URL:https://www.goriverwalk.com/greater-fort-lauderdale-events/menopause-t
 he-musical
SUMMARY:Menopause The Musical
DESCRIPTION:Empowering women across the globe
ATTACH;FMTTYPE=image/jpeg:https://www.goriverwalk.com/wp-content/uploads/2
 021/07/Menopause.jpg
CATEGORIES:Theater
END:VEVENT
BEGIN:VTIMEZONE
TZID:America/New_York
X-LIC-LOCATION:America/New_York
BEGIN:STANDARD
DTSTART:20211107T010000
TZOFFSETFROM:-0400
TZOFFSETTO:-0500
TZNAME:EST
END:STANDARD
END:VTIMEZONE
END:VCALENDAR