BEGIN:VCALENDAR
VERSION:2.0
PRODID:-//wp-events-plugin.com//7.2.3.1//EN
TZID:America/New_York
X-WR-TIMEZONE:America/New_York
BEGIN:VEVENT
UID:18028@goriverwalk.com
DTSTART;TZID=America/New_York:20231109T180000
DTEND;TZID=America/New_York:20231109T200000
DTSTAMP:20231031T152739Z
URL:https://www.goriverwalk.com/greater-fort-lauderdale-events/members-ope
 ning-reception-walasse-ting-parrot-jungle
SUMMARY:Walasse Ting: Parrot Jungle
DESCRIPTION:Members Opening Reception
ATTACH;FMTTYPE=image/jpeg:https://www.goriverwalk.com/wp-content/uploads/2
 023/10/Ting-Promo-Walasse-Ting-Untitled-early-1980s.-Acrylic-and-Chinese-i
 nk-on-rice-paper.-Private-Collection-Hong-Kong.-©-2023-Artists-Rights-Soc
 iety-ARS-New-York.-Photo-by-Jeffrey-Sturges-scaled.jpg
CATEGORIES:Art
LOCATION:NSU Art Museum\, One East Las Olas Boulevard\, Fort Lauderdale\, F
 L\, 33301\, Broward County\, United States
X-APPLE-STRUCTURED-LOCATION;VALUE=URI;X-ADDRESS=One East Las Olas Boulevard
 \, Fort Lauderdale\, FL\, 33301\, Broward County\, United States;X-APPLE-R
 ADIUS=100;X-TITLE=NSU Art Museum:geo:0,0
END:VEVENT
BEGIN:VTIMEZONE
TZID:America/New_York
X-LIC-LOCATION:America/New_York
BEGIN:STANDARD
DTSTART:20231105T010000
TZOFFSETFROM:-0400
TZOFFSETTO:-0500
TZNAME:EST
END:STANDARD
END:VTIMEZONE
END:VCALENDAR