BEGIN:VCALENDAR
VERSION:2.0
PRODID:-//wp-events-plugin.com//7.2.3.1//EN
TZID:America/New_York
X-WR-TIMEZONE:America/New_York
BEGIN:VEVENT
UID:21615@goriverwalk.com
DTSTART;TZID=America/New_York:20251120T180000
DTEND;TZID=America/New_York:20251120T200000
DTSTAMP:20251118T171707Z
URL:https://www.goriverwalk.com/greater-fort-lauderdale-events/meet-author
 -christiana-lilly
SUMMARY:Meet Author Christiana Lilly
DESCRIPTION:History Fort Lauderdale’s  “Florida Scribes & Stories”
ATTACH;FMTTYPE=image/jpeg:https://www.goriverwalk.com/wp-content/uploads/2
 025/10/Florida-Scribes-and-Stories-Social-Christiana-Lilly-Nov-2025-smalle
 r.jpg
CATEGORIES:Community,Cultural
LOCATION:History Fort Lauderdale\, 231 SW 2nd Avenue\, Fort Lauderdale\, Fl
 orida\, 33301\, United States
GEO:26.1191853;-80.14595480000003
X-APPLE-STRUCTURED-LOCATION;VALUE=URI;X-ADDRESS=231 SW 2nd Avenue\, Fort La
 uderdale\, Florida\, 33301\, United States;X-APPLE-RADIUS=100;X-TITLE=Hist
 ory Fort Lauderdale:geo:26.1191853,-80.14595480000003
END:VEVENT
BEGIN:VTIMEZONE
TZID:America/New_York
X-LIC-LOCATION:America/New_York
BEGIN:STANDARD
DTSTART:20251102T010000
TZOFFSETFROM:-0400
TZOFFSETTO:-0500
TZNAME:EST
END:STANDARD
END:VTIMEZONE
END:VCALENDAR