BEGIN:VCALENDAR
VERSION:2.0
PRODID:-//wp-events-plugin.com//7.2.3.1//EN
TZID:America/New_York
X-WR-TIMEZONE:America/New_York
BEGIN:VEVENT
UID:5210@goriverwalk.com
DTSTART;TZID=America/New_York:20180726T173000
DTEND;TZID=America/New_York:20180726T190000
DTSTAMP:20180717T205652Z
URL:https://www.goriverwalk.com/greater-fort-lauderdale-events/meet-artist
 -tim-forman
SUMMARY:Meet Artist Tim Forman
DESCRIPTION:Gay &amp\; Lesbian Business Exchange event
ATTACH;FMTTYPE=image/jpeg:https://www.goriverwalk.com/wp-content/uploads/2
 018/07/2018-07-12_15-24-16-RED.jpg
CATEGORIES:Art,Business
LOCATION:New River Inn\, 231 SW 2 Avenue\, Fort Lauderdale\, FL\, 33301\, U
 nited States
GEO:26.1190154;-80.14592329999999
X-APPLE-STRUCTURED-LOCATION;VALUE=URI;X-ADDRESS=231 SW 2 Avenue\, Fort Laud
 erdale\, FL\, 33301\, United States;X-APPLE-RADIUS=100;X-TITLE=New River I
 nn:geo:26.1190154,-80.14592329999999
END:VEVENT
BEGIN:VTIMEZONE
TZID:America/New_York
X-LIC-LOCATION:America/New_York
BEGIN:DAYLIGHT
DTSTART:20180311T030000
TZOFFSETFROM:-0500
TZOFFSETTO:-0400
TZNAME:EDT
END:DAYLIGHT
END:VTIMEZONE
END:VCALENDAR