BEGIN:VCALENDAR
VERSION:2.0
PRODID:-//wp-events-plugin.com//7.2.3.1//EN
TZID:America/New_York
X-WR-TIMEZONE:America/New_York
BEGIN:VEVENT
UID:1596@goriverwalk.com
DTSTART;TZID=America/New_York:20160324T193000
DTEND;TZID=America/New_York:20160324T213000
DTSTAMP:20160215T182150Z
URL:https://www.goriverwalk.com/greater-fort-lauderdale-events/maundy-thur
 sday-at-first-pres
SUMMARY:Maundy Thursday at First Pres
DESCRIPTION:&nbsp\;\n\n&nbsp\;
ATTACH;FMTTYPE=image/jpeg:https://www.goriverwalk.com/wp-content/uploads/2
 015/12/Default-calendar-1.jpg
CATEGORIES:Holiday
LOCATION:First Presbyterian Church of Fort Lauderdale\, 401 SE 15th Ave. \,
  Fort Lauerdale\, Florida\, 33301\, United States
GEO:26.118063;-80.128937
X-APPLE-STRUCTURED-LOCATION;VALUE=URI;X-ADDRESS=401 SE 15th Ave. \, Fort La
 uerdale\, Florida\, 33301\, United States;X-APPLE-RADIUS=100;X-TITLE=First
  Presbyterian Church of Fort Lauderdale:geo:26.118063,-80.128937
END:VEVENT
BEGIN:VTIMEZONE
TZID:America/New_York
X-LIC-LOCATION:America/New_York
BEGIN:DAYLIGHT
DTSTART:20160313T030000
TZOFFSETFROM:-0500
TZOFFSETTO:-0400
TZNAME:EDT
END:DAYLIGHT
END:VTIMEZONE
END:VCALENDAR