BEGIN:VCALENDAR
VERSION:2.0
PRODID:-//wp-events-plugin.com//7.2.3.1//EN
TZID:America/New_York
X-WR-TIMEZONE:America/New_York
BEGIN:VEVENT
UID:17969@goriverwalk.com
DTSTART;TZID=America/New_York:20240327T193000
DTEND;TZID=America/New_York:20240327T193000
DTSTAMP:20231120T220232Z
URL:https://www.goriverwalk.com/greater-fort-lauderdale-events/masterworks
 -iv-4
SUMMARY:Masterworks IV
DESCRIPTION:The Firebrid\, Bolero Bernstein & nore
ATTACH;FMTTYPE=image/jpeg:https://www.goriverwalk.com/wp-content/uploads/2
 023/10/3.27.24-Masterworks-III.jpg
CATEGORIES:Music
LOCATION:Lillian S. Wells Hall at The Parker\, 707 NE 8th Street\, Fort Lau
 derdale\, Florida\, 33304\, United States
X-APPLE-STRUCTURED-LOCATION;VALUE=URI;X-ADDRESS=707 NE 8th Street\, Fort La
 uderdale\, Florida\, 33304\, United States;X-APPLE-RADIUS=100;X-TITLE=Lill
 ian S. Wells Hall at The Parker:geo:0,0
END:VEVENT
BEGIN:VTIMEZONE
TZID:America/New_York
X-LIC-LOCATION:America/New_York
BEGIN:DAYLIGHT
DTSTART:20240310T030000
TZOFFSETFROM:-0500
TZOFFSETTO:-0400
TZNAME:EDT
END:DAYLIGHT
END:VTIMEZONE
END:VCALENDAR