BEGIN:VCALENDAR
VERSION:2.0
PRODID:-//wp-events-plugin.com//7.2.3.1//EN
TZID:America/New_York
X-WR-TIMEZONE:America/New_York
BEGIN:VEVENT
UID:14383@goriverwalk.com
DTSTART;TZID=America/New_York:20220827T200000
DTEND;TZID=America/New_York:20220827T220000
DTSTAMP:20220705T133650Z
URL:https://www.goriverwalk.com/greater-fort-lauderdale-events/marlow-rosa
 do
SUMMARY:Marlow Rosado
DESCRIPTION:With special guest Tony Toyan
ATTACH;FMTTYPE=image/jpeg:https://www.goriverwalk.com/wp-content/uploads/2
 022/06/MarlowRosado.jpg
CATEGORIES:Music
LOCATION:Amaturo Theater at The Broward Center for the Performing Arts\, 20
 1 SW 5th St.\, Fort Lauderdale\, Florida\, 33312\, United States
X-APPLE-STRUCTURED-LOCATION;VALUE=URI;X-ADDRESS=201 SW 5th St.\, Fort Laude
 rdale\, Florida\, 33312\, United States;X-APPLE-RADIUS=100;X-TITLE=Amaturo
  Theater at The Broward Center for the Performing Arts:geo:0,0
END:VEVENT
BEGIN:VTIMEZONE
TZID:America/New_York
X-LIC-LOCATION:America/New_York
BEGIN:DAYLIGHT
DTSTART:20220313T030000
TZOFFSETFROM:-0500
TZOFFSETTO:-0400
TZNAME:EDT
END:DAYLIGHT
END:VTIMEZONE
END:VCALENDAR